BEGIN:VCALENDAR
VERSION:2.0
PRODID:-//THE BLACK LAB - ECPv6.6.4//NONSGML v1.0//EN
CALSCALE:GREGORIAN
METHOD:PUBLISH
X-WR-CALNAME:THE BLACK LAB
X-ORIGINAL-URL:https://theblacklab.fr
X-WR-CALDESC:évènements pour THE BLACK LAB
REFRESH-INTERVAL;VALUE=DURATION:PT1H
X-Robots-Tag:noindex
X-PUBLISHED-TTL:PT1H
BEGIN:VTIMEZONE
TZID:Europe/Paris
BEGIN:DAYLIGHT
TZOFFSETFROM:+0100
TZOFFSETTO:+0200
TZNAME:CEST
DTSTART:20260329T010000
END:DAYLIGHT
BEGIN:STANDARD
TZOFFSETFROM:+0200
TZOFFSETTO:+0100
TZNAME:CET
DTSTART:20261025T010000
END:STANDARD
END:VTIMEZONE
BEGIN:VEVENT
DTSTART;TZID=Europe/Paris:20260419T160000
DTEND;TZID=Europe/Paris:20260419T230000
DTSTAMP:20260420T115437
CREATED:20260304T150451Z
LAST-MODIFIED:20260414T120841Z
UID:7332-1776614400-1776639600@theblacklab.fr
SUMMARY:[ANNULÉ] LOUD&BLAST DAYS 2026 DAY 3
DESCRIPTION:𝐋𝐨𝐮𝐝𝐛𝐥𝐚𝐬𝐭\, 𝐓𝐡𝐞 𝐁𝐥𝐚𝐜𝐤 𝐋𝐚𝐛 𝐞𝐭 𝐇𝐞𝐫𝐞𝐭𝐢𝐤 𝐌𝐚𝐠𝐚𝐳𝐢𝐧𝐞 𝐩𝐫𝐨𝐮𝐝𝐥𝐲 𝐩𝐫𝐞𝐬𝐞𝐧𝐭 𝐋𝐎𝐔𝐃&𝐁𝐋𝐀𝐒𝐓 𝐃𝐀𝐘𝐒 ! \n\n\n\nAprès avoir fêté ses 40 ans de carrière en 2025\, Loudblast revient au BLACK LAB (Wasquehal – Lille Métropole) en organisant son 1er festival au nom évocateur : Loud&Blast Days !  \n\n\n\nAu programme\, 3 soirées dédiées tantôt au Death\, tantôt au Heavy\, tantôt à la scène émergente\, auquel s’ajoute un tremplin à destination des jeunes formations des Hauts-de-France et de Belgique\, l’Heretik Lab. \n\n\n\n𝐍𝐄𝐖 𝐖𝐎𝐑𝐋𝐃 𝐂𝐇𝐀𝐎𝐒 – 𝐃𝐢𝐦𝐚𝐧𝐜𝐡𝐞 𝟏𝟗 𝐀𝐯𝐫𝐢𝐥 𝟐𝟎𝟐𝟔 – 𝟏𝟔𝐇 > 𝟐𝟑𝐇REVNOIR + TBA + ICE SEALED EYES + MARCH OF SCYLLA + Heretik Lab \n\n\n\n\n\n\n\n——————–𝐒𝐔𝐑 𝐏𝐋𝐀𝐂𝐄 : Market Place + Food Truck + Tyrant Brewing𝐕𝐄𝐍𝐈𝐑 : Parking sur place ou Métro Ligne 2 – Arrêt Station “Les Prés Edgar Pisani”——————————𝗔𝗥𝗧𝗪𝗢𝗥𝗞 : Nao Noïse\, avec le concours de Førtifem \n\n\n\n\n\n\n\n\n\n\n\n\n\n\n\n\n\n\n\n\nANNULÉ
URL:https://theblacklab.fr/agenda/loudblast-days-2026-day-3/
CATEGORIES:ÉVÉNEMENT
ATTACH;FMTTYPE=image/png:https://theblacklab.fr/BL/wp-content/uploads/2026/03/LOUDBLAST-3.png
END:VEVENT
END:VCALENDAR