BEGIN:VCALENDAR
VERSION:2.0
PRODID:-//THE BLACK LAB - ECPv6.6.4//NONSGML v1.0//EN
CALSCALE:GREGORIAN
METHOD:PUBLISH
X-WR-CALNAME:THE BLACK LAB
X-ORIGINAL-URL:https://theblacklab.fr
X-WR-CALDESC:évènements pour THE BLACK LAB
REFRESH-INTERVAL;VALUE=DURATION:PT1H
X-Robots-Tag:noindex
X-PUBLISHED-TTL:PT1H
BEGIN:VTIMEZONE
TZID:Europe/Paris
BEGIN:DAYLIGHT
TZOFFSETFROM:+0100
TZOFFSETTO:+0200
TZNAME:CEST
DTSTART:20260329T010000
END:DAYLIGHT
BEGIN:STANDARD
TZOFFSETFROM:+0200
TZOFFSETTO:+0100
TZNAME:CET
DTSTART:20261025T010000
END:STANDARD
END:VTIMEZONE
BEGIN:VEVENT
DTSTART;TZID=Europe/Paris:20260428T200000
DTEND;TZID=Europe/Paris:20260428T223000
DTSTAMP:20260420T134325
CREATED:20260313T130529Z
LAST-MODIFIED:20260416T090421Z
UID:7398-1777406400-1777415400@theblacklab.fr
SUMMARY:THE GOOD\, THE BAD AND LOCAL : EKO + BLACK OLD SOUND
DESCRIPTION:THE GOOD\, THE BAD AND LOCAL  \n\n\n\nEKO  : \n\n\n\nLillois et ludique\, EKO est une bande de copains passionnés de musique qui célèbre le rock au fil du temps à travers des reprises. Inspirés par les grandes icônes du rock et les groupes emblématiques qui ont marqué les époques\, EKO offre des performances énergiques et authentiques qui savent embarquer le public et la garantie d’un pur moment de musique !Insta: https://www.instagram.com/eko_rockband/ \n\n\n\nFb: https://www.facebook.com/share/ \n\n\n\nBLACK OLD SOUND : \n\n\n\nBlack Old Sound est un groupe de rock originaire des Hauts de France formé en 2021. Quintet\, composé deKévin (chant)\, Benjamin (guitare)\, Dimitri (guitare)\, Mathieu (basse) et Mathias (batterie)\, le groupe proposeun rock énergique\, mélodique\, efficace et punchy\, prêt à faire rugir les salles.Le son est rugueux\, chaud\, vrai. Des racines rock/blues indéniables\, un groove bien senti\, du gras dans lesguitares et dans les voix\, des basses/batteries claquantes\, des structures riches mais pas ennuyeuses etjuste ce qu’il faut de gimmicks pour garder les chansons vissées dans les oreilles. \n\n\n\n\n\n\n\n\n\n\n\n\n\n\n\n\n\n\n\n\n\n\n\n\n\n\nEntrée gratuite toute la soirée !
URL:https://theblacklab.fr/agenda/the-good-the-bad-and-local-eko-black-old-sound/
CATEGORIES:ÉVÉNEMENT
ATTACH;FMTTYPE=image/png:https://theblacklab.fr/BL/wp-content/uploads/2024/02/GOODBADLOCAL-slider.png
END:VEVENT
END:VCALENDAR