BEGIN:VCALENDAR
VERSION:2.0
PRODID:-//THE BLACK LAB - ECPv6.6.4//NONSGML v1.0//EN
CALSCALE:GREGORIAN
METHOD:PUBLISH
X-ORIGINAL-URL:https://theblacklab.fr
X-WR-CALDESC:évènements pour THE BLACK LAB
REFRESH-INTERVAL;VALUE=DURATION:PT1H
X-Robots-Tag:noindex
X-PUBLISHED-TTL:PT1H
BEGIN:VTIMEZONE
TZID:Europe/Paris
BEGIN:DAYLIGHT
TZOFFSETFROM:+0100
TZOFFSETTO:+0200
TZNAME:CEST
DTSTART:20260329T010000
END:DAYLIGHT
BEGIN:STANDARD
TZOFFSETFROM:+0200
TZOFFSETTO:+0100
TZNAME:CET
DTSTART:20261025T010000
END:STANDARD
END:VTIMEZONE
BEGIN:VEVENT
DTSTART;TZID=Europe/Paris:20260509T190000
DTEND;TZID=Europe/Paris:20260509T233000
DTSTAMP:20260420T151730
CREATED:20251222T124321Z
LAST-MODIFIED:20260416T084437Z
UID:7168-1778353200-1778369400@theblacklab.fr
SUMMARY:THE BLACK LAB Tribute Fest #4 Day 2
DESCRIPTION:L’ONDE PRODUCTIONS x THE BLACK LAB \n\n\n\nThe Black Lab Tribute Fest #4  \n\n\n\nSamedi 9 mai-Mötley Crüe par Mötley Crüde – The Mötley Crüe Tribute Band (UK)-Guns N’ Roses par Guns 2 Roses – Guns N’ Roses Tribute Band (UK) \n\n\n\n\n\n\n\nACCÈS :  \n\n\n\nMétro : Ligne 2 Station : Les Prés – Edgard Pisani 5 MINUTES A PIED depuis la station  \n\n\n\nVélo : A 15 minutes du centre de Lille Nombreuses pistes cyclables sur la MEL  \n\n\n\n Auto : A 10 minutes du centre de Lille Parking sur place Covoiturez pour plus de fun !  \n\n\n\nPMR CARE : Pour toute personne rencontrant des difficultés dans ses déplacements\, notez que\, malgré nos étages\, tous nos services sont accessibles au rez-de-chaussée. Pour parfaire votre accueil\, n’hésitez pas à nous informer de votre venue par message ou à theblacklabtributefest@gmail.com \n\n\n\n\n\n\n\n\n\n\n\n\n\n\n\n\n\n\n\n\nACHETEZ VOS BILLETS
URL:https://theblacklab.fr/agenda/the-black-lab-tribute-fest-4-day-2/
CATEGORIES:ÉVÉNEMENT,SLIDER
ATTACH;FMTTYPE=image/png:https://theblacklab.fr/BL/wp-content/uploads/2025/12/Tribute-Fest-scaled.png
END:VEVENT
END:VCALENDAR