BEGIN:VCALENDAR
VERSION:2.0
PRODID:-//THE BLACK LAB - ECPv6.6.4//NONSGML v1.0//EN
CALSCALE:GREGORIAN
METHOD:PUBLISH
X-WR-CALNAME:THE BLACK LAB
X-ORIGINAL-URL:https://theblacklab.fr
X-WR-CALDESC:évènements pour THE BLACK LAB
REFRESH-INTERVAL;VALUE=DURATION:PT1H
X-Robots-Tag:noindex
X-PUBLISHED-TTL:PT1H
BEGIN:VTIMEZONE
TZID:Europe/Paris
BEGIN:DAYLIGHT
TZOFFSETFROM:+0100
TZOFFSETTO:+0200
TZNAME:CEST
DTSTART:20260329T010000
END:DAYLIGHT
BEGIN:STANDARD
TZOFFSETFROM:+0200
TZOFFSETTO:+0100
TZNAME:CET
DTSTART:20261025T010000
END:STANDARD
END:VTIMEZONE
BEGIN:VEVENT
DTSTART;TZID=Europe/Paris:20261013T190000
DTEND;TZID=Europe/Paris:20261013T233000
DTSTAMP:20260420T223803
CREATED:20260226T095354Z
LAST-MODIFIED:20260415T145012Z
UID:7309-1791918000-1791934200@theblacklab.fr
SUMMARY:MYRATH
DESCRIPTION:ACCESS LIVE x THE BLACK LAB  \n\n\n\nAlors que 𝐌𝐘𝐑𝐀𝐓𝐇 prépare la sortie de son nouvel album « Wildness of Mirrors »\, le groupe annonce la deuxième partie de son immense tournée européenne\, incluant pas moins de 10 concerts en France ! \n\n\n\nLes Franco-Tunisiens sont prêts à vous embarquer dans un voyage musical intense. Le groupe propose un metal progressif puissant\, parfois qualifié par le public de “Blazing Desert Metal”\, en référence à l’intensité de sa musique et à certaines couleurs atmosphériques. \n\n\n\nChaque concert est une immersion totale\, où la virtuosité des musiciens rencontre la passion du public. Après avoir conquis les scènes du monde entier\, 𝐌𝐘𝐑𝐀𝐓𝐇 est prêt à faire vibrer à nouveau ses fans avec un show spectaculaire\, riche en émotions et en surprises. \n\n\n\n\n\n\n\n\n\n\n\n\n\n\n\n\n\n\n\n\nACHETEZ VOS BILLETS
URL:https://theblacklab.fr/agenda/myrath-2/
CATEGORIES:ÉVÉNEMENT,SLIDER
ATTACH;FMTTYPE=image/png:https://theblacklab.fr/BL/wp-content/uploads/2026/02/MYRATH-slider.png
END:VEVENT
END:VCALENDAR