BEGIN:VCALENDAR
VERSION:2.0
PRODID:-//THE BLACK LAB - ECPv6.6.4//NONSGML v1.0//EN
CALSCALE:GREGORIAN
METHOD:PUBLISH
X-WR-CALNAME:THE BLACK LAB
X-ORIGINAL-URL:https://theblacklab.fr
X-WR-CALDESC:évènements pour THE BLACK LAB
REFRESH-INTERVAL;VALUE=DURATION:PT1H
X-Robots-Tag:noindex
X-PUBLISHED-TTL:PT1H
BEGIN:VTIMEZONE
TZID:Europe/Paris
BEGIN:DAYLIGHT
TZOFFSETFROM:+0100
TZOFFSETTO:+0200
TZNAME:CEST
DTSTART:20260329T010000
END:DAYLIGHT
BEGIN:STANDARD
TZOFFSETFROM:+0200
TZOFFSETTO:+0100
TZNAME:CET
DTSTART:20261025T010000
END:STANDARD
END:VTIMEZONE
BEGIN:VEVENT
DTSTART;TZID=Europe/Paris:20261023T200000
DTEND;TZID=Europe/Paris:20261023T233000
DTSTAMP:20260420T222525
CREATED:20260415T084116Z
LAST-MODIFIED:20260415T145051Z
UID:7523-1792785600-1792798200@theblacklab.fr
SUMMARY:CALVA LOUISE + SUN
DESCRIPTION:PERDS PAS LE NORD \n\n\n\nCALVA LOUISE + SUN \n\n\n\nL’histoire fascinante de Calva Louise\, le groupe qui a été fondé alors que ses membres venaient des quatre coins du monde : leurs influences et expériences mêlées ont créé une multitude de fils captivants qui se sont entremêlés dans leur existence. Metal\, punk\, électro et art rock s’entrelacent à travers des récits grandioses et une narration cinématographique\, le tout porté par une mise en scène visuelle époustouflante : bienvenue dans l’univers de Calva Louise et dans la sortie de leur nouvel album studio\, Edge of the Abyss\, coproduit par Gareth McGrillen de Pendulum et sorti le 11 juillet chez Mascot Records. \n\n\n\nPréparez-vous à vivre une expérience sonore pas comme les autres\, car SUN et sa “Brutal Pop” reviennent pour son tant attendu Krystal Metal Tour ! Mélangeant les hymnes de stade de Pink et la lourdeur écrasante de Gojira\, SUN a créé un son aussi électrisant qu’inattendu. \n\n\n\n\n\n\n\n\n\n\n\n\n\n\n\n\n\n\n\n\nACHETEZ VOS BILLETS
URL:https://theblacklab.fr/agenda/calva-louise-sun/
CATEGORIES:ÉVÉNEMENT,SLIDER
ATTACH;FMTTYPE=image/jpeg:https://theblacklab.fr/BL/wp-content/uploads/2026/04/Press-pic-by-Josh-Guim.jpg
END:VEVENT
END:VCALENDAR