BEGIN:VCALENDAR
VERSION:2.0
PRODID:-//THE BLACK LAB - ECPv6.6.4//NONSGML v1.0//EN
CALSCALE:GREGORIAN
METHOD:PUBLISH
X-WR-CALNAME:THE BLACK LAB
X-ORIGINAL-URL:https://theblacklab.fr
X-WR-CALDESC:évènements pour THE BLACK LAB
REFRESH-INTERVAL;VALUE=DURATION:PT1H
X-Robots-Tag:noindex
X-PUBLISHED-TTL:PT1H
BEGIN:VTIMEZONE
TZID:Europe/Paris
BEGIN:DAYLIGHT
TZOFFSETFROM:+0100
TZOFFSETTO:+0200
TZNAME:CEST
DTSTART:20260329T010000
END:DAYLIGHT
BEGIN:STANDARD
TZOFFSETFROM:+0200
TZOFFSETTO:+0100
TZNAME:CET
DTSTART:20261025T010000
END:STANDARD
END:VTIMEZONE
BEGIN:VEVENT
DTSTART;TZID=Europe/Paris:20261025T190000
DTEND;TZID=Europe/Paris:20261025T230000
DTSTAMP:20260420T222525
CREATED:20260403T085311Z
LAST-MODIFIED:20260414T112148Z
UID:7442-1792954800-1792969200@theblacklab.fr
SUMMARY:[ANNULÉ] HYPNO5E + HIPPOTRAKTOR
DESCRIPTION:A GAUCHE DE LA LUNE  \n\n\n\nHYPNO5E \n\n\n\nLe groupe référence et pionnier du metal cinématographique HYPNO5E ouvre en 2026 un nouveau chapitre de son univers profondément intense et introspectif. \n\n\n\nAprès quasiment 20 ans de carrière\, et plus de 500 concerts dans le monde\, le groupe a su marquer de son empreinte le metal moderne actuel avec un son unique mêlant metal progressif\, post-hardcore et écriture filmique. Après le très remarqué Sheol (2023)\, HYPNO5E pousse encore plus loin son approche immersive avec une œuvre plus sombre\, fragmentée et texturale. \n\n\n\nRéputé pour ses performances live intenses et visuelles\, HYPNO5E transforme chaque concert en véritable expérience immersive. Avec ce nouveau chapitre créatif\, le groupe confirme son statut d’acteur incontournable de la scène progressive moderne et sera en tournée en France et à l’étranger\, pour défendre ce nouvel album en live.HIPPOTRAKTOR Originaire de Malines en Belgique\, Hippotraktor s’est imposé sur la scène du métal progressif mondial avec Meridian (2021) puis Stasis (2024\, Pelagic Records)\, salué comme un chef-d’œuvre alliant riffs massifs\, polyrythmies complexes et synergie vocale\, avec des comparaisons aux géants Gojira et Meshuggah. Fort d’une présence live redoutable sur des festivals prestigieux tels que le Graspop Metal Meeting\, l’ArcTanGent ou l’Eurosonic\, le groupe s’apprête à franchir une nouvelle étape avec Annihilist\, leur opus le plus ambitieux\, attendu le 2 octobre 2026 via Pelagic Records. \n\n\n\n\n\n\n\n\n\n\n\n\n\n\n\n\n\n\n\n\nACHETEZ VOS BILLETS
URL:https://theblacklab.fr/agenda/hypno5e-hippotraktor/
CATEGORIES:ÉVÉNEMENT,SLIDER
ATTACH;FMTTYPE=image/jpeg:https://theblacklab.fr/BL/wp-content/uploads/2026/04/Hippotraktor_Cathedral_24_V2_-2-scaled.jpg
END:VEVENT
END:VCALENDAR