BEGIN:VCALENDAR
VERSION:2.0
PRODID:-//THE BLACK LAB - ECPv6.6.4//NONSGML v1.0//EN
CALSCALE:GREGORIAN
METHOD:PUBLISH
X-ORIGINAL-URL:https://theblacklab.fr
X-WR-CALDESC:évènements pour THE BLACK LAB
REFRESH-INTERVAL;VALUE=DURATION:PT1H
X-Robots-Tag:noindex
X-PUBLISHED-TTL:PT1H
BEGIN:VTIMEZONE
TZID:Europe/Paris
BEGIN:DAYLIGHT
TZOFFSETFROM:+0100
TZOFFSETTO:+0200
TZNAME:CEST
DTSTART:20260329T010000
END:DAYLIGHT
BEGIN:STANDARD
TZOFFSETFROM:+0200
TZOFFSETTO:+0100
TZNAME:CET
DTSTART:20261025T010000
END:STANDARD
END:VTIMEZONE
BEGIN:VEVENT
DTSTART;TZID=Europe/Paris:20261027T200000
DTEND;TZID=Europe/Paris:20261027T233000
DTSTAMP:20260420T222529
CREATED:20260307T131009Z
LAST-MODIFIED:20260415T144540Z
UID:7364-1793131200-1793143800@theblacklab.fr
SUMMARY:THE WATCH PLAYS GENESIS
DESCRIPTION:A GAUCHE DE LA LUNE \n\n\n\nTHE WATCH PLAYS GENESIS \n\n\n\nUn voyage musical intense au cœur de l’ère légendaire 1970–1976 de Genesis\, les années qui ont défini le rock progressif. Grâce à une attention au détail remarquable et un son qui restitue fidèlement la période Peter Gabriel\, The Watch fait revivre sur scène les albums classiques et les moments iconiques de Genesis. \n\n\n\nUne expérience live captivante\, pour les fans de longue date comme pour celles et ceux qui souhaitent redécouvrir ce chapitre musical extraordinaire. \n\n\n\n\n\n\n\n→ Informations groupes & PMR :A GAUCHE DE LA LUNE03 28 04 04 53 – reservation@tickandyou.com  \n\n\n\n\n\n\n\n\n\n\n\n\n\n\n\n\n\n\n\n\nACHETEZ VOS BILLETS
URL:https://theblacklab.fr/agenda/the-watch-plays-genesis/
CATEGORIES:ÉVÉNEMENT,SLIDER
ATTACH;FMTTYPE=image/jpeg:https://theblacklab.fr/BL/wp-content/uploads/2026/03/orizzontal.jpg
END:VEVENT
END:VCALENDAR