BEGIN:VCALENDAR
VERSION:2.0
PRODID:-//THE BLACK LAB - ECPv6.6.4//NONSGML v1.0//EN
CALSCALE:GREGORIAN
METHOD:PUBLISH
X-ORIGINAL-URL:https://theblacklab.fr
X-WR-CALDESC:évènements pour THE BLACK LAB
REFRESH-INTERVAL;VALUE=DURATION:PT1H
X-Robots-Tag:noindex
X-PUBLISHED-TTL:PT1H
BEGIN:VTIMEZONE
TZID:Europe/Paris
BEGIN:DAYLIGHT
TZOFFSETFROM:+0100
TZOFFSETTO:+0200
TZNAME:CEST
DTSTART:20260329T010000
END:DAYLIGHT
BEGIN:STANDARD
TZOFFSETFROM:+0200
TZOFFSETTO:+0100
TZNAME:CET
DTSTART:20261025T010000
END:STANDARD
END:VTIMEZONE
BEGIN:VEVENT
DTSTART;TZID=Europe/Paris:20261121T200000
DTEND;TZID=Europe/Paris:20261121T233000
DTSTAMP:20260421T001350
CREATED:20260205T005547Z
LAST-MODIFIED:20260417T121431Z
UID:7291-1795291200-1795303800@theblacklab.fr
SUMMARY:HOLLYWOOD PORN STARS
DESCRIPTION:A GAUCHE DE LA LUNE \n\n\n\nEN ACCORD AVEC ODESSA\, PRESENTE \n\n\n\nHollywood Porn Stars est un groupe belge de rock indépendant formé en 2002 à Liège. Leur musique allie une énergie brute\, des riffs de guitare acérés et des mélodies mélancolique avec des influences de groupes comme Sonic Youth\, Pixies et Nirvana. Le groupe s’est rapidement fait un nom avec la sortie de son premier album\, Year of the Tiger (2004) qui a attiré l’attention en Europe.Le son puissant de l’album et ses compositions dynamiques ont solidifié leur place sur la scène rock indépendant.Leur deuxième album\, Satellite (2007)\, a présenté un style plus raffiné et atmosphérique tout en conservant leur intensité caractéristique\, ce qui leur a valu des critiques élogieuses et l’élargissement de leur base de fans. Hollywood Porn Stars s’est produit dans certains des plus grands festivals et salles de Belgique\, notamment à l’Ancienne Belgique\, aux Ardentes\, au Pukkelpo et au Dour Festival où ils se sont distingués par des performances scéniques électrisantes.À l’international\, ils ont joué dans des événements prestigieux comme Eurosonic\, The Great Escape\, Haldern Pop\, Paléo\, Les Vieilles Charrues ou Solidays\, renforçant ainsi leur réputation à travers l’Europe.Malgré une pause de 15 ans\, le groupe reste une figure clé de la scène indie belge. Anthony Sinatra et Redboy ont également exploré d’autres projets parallèles\, notamment avec Piano Club et MLCD mais Hollywood Porn Stars continue d’être célébré pour son mélange unique de rock énergique et de mélodies introspectives. Le groupe a laissé une empreinte durable sur le paysage musical alternatif en Belgique et au-delà. \n\n\n\n\n\n\n\n\n\n\n\n\n\n\n\n\n\n\n\n\nACHETEZ VOS BILLETS
URL:https://theblacklab.fr/agenda/hollywood-porn-stars/
CATEGORIES:ÉVÉNEMENT,SLIDER
ATTACH;FMTTYPE=image/jpeg:https://theblacklab.fr/BL/wp-content/uploads/2026/02/Press-shot2-2025-@Reno-Gilsoul-scaled.jpg
END:VEVENT
END:VCALENDAR