BEGIN:VCALENDAR
VERSION:2.0
PRODID:-//THE BLACK LAB - ECPv6.6.4//NONSGML v1.0//EN
CALSCALE:GREGORIAN
METHOD:PUBLISH
X-ORIGINAL-URL:https://theblacklab.fr
X-WR-CALDESC:évènements pour THE BLACK LAB
REFRESH-INTERVAL;VALUE=DURATION:PT1H
X-Robots-Tag:noindex
X-PUBLISHED-TTL:PT1H
BEGIN:VTIMEZONE
TZID:Europe/Paris
BEGIN:DAYLIGHT
TZOFFSETFROM:+0100
TZOFFSETTO:+0200
TZNAME:CEST
DTSTART:20260329T010000
END:DAYLIGHT
BEGIN:STANDARD
TZOFFSETFROM:+0200
TZOFFSETTO:+0100
TZNAME:CET
DTSTART:20261025T010000
END:STANDARD
END:VTIMEZONE
BEGIN:VEVENT
DTSTART;TZID=Europe/Paris:20260421T200000
DTEND;TZID=Europe/Paris:20260421T233000
DTSTAMP:20260420T120919
CREATED:20260130T100533Z
LAST-MODIFIED:20260416T090613Z
UID:7276-1776801600-1776814200@theblacklab.fr
SUMMARY:THE GOOD\, THE BAD AND LOCAL : STATISTIQUES + NEVER IS THE SUN
DESCRIPTION:THE GOOD\, THE BAD AND LOCAL \n\n\n\nStatistiques • Math Punk • Lille\, Fr \n\n\n\nNever Is The Sun • Metal alternatif • Lille\, Fr \n\n\n\n\n\n\n\n\nEntrée gratuite toute la soirée !
URL:https://theblacklab.fr/agenda/the-good-the-bad-and-local-statistiques-never-is-the-sun/
CATEGORIES:ÉVÉNEMENT
ATTACH;FMTTYPE=image/png:https://theblacklab.fr/BL/wp-content/uploads/2024/02/GOODBADLOCAL-slider.png
END:VEVENT
BEGIN:VEVENT
DTSTART;TZID=Europe/Paris:20260423T190000
DTEND;TZID=Europe/Paris:20260423T233000
DTSTAMP:20260420T120919
CREATED:20260112T101144Z
LAST-MODIFIED:20260416T090543Z
UID:7218-1776970800-1776987000@theblacklab.fr
SUMMARY:BLAZE BAYLEY
DESCRIPTION:THE BLACK LAB  \n\n\n\nBLAZE BAYLEY – Heavy metal master (and Iron Maiden Singer 1994 > 1999) – UK \n\n\n\nAtteignant une renommée mondiale après avoir rejoint IRON MAIDEN\, Blaze Bayley a assumé le chant du combo anglais entre 1994 et 1999 pour une pelletée de dates et deux albums. Sa carrière solo reste exemplaire et à l’occasion de l’anniversaire de Maiden\, il prépare un show spécial de 2h30 composés de titres issues de “X-Factor”\, “Virtual XI” et de “Best of the Beast”. Be there or be square. \n\n\n\n\n\n\n\nTarifs en prévente (hors frais de location) : https://ypl.me/PeLKid 0€ / Nice price 13€ / Low budget 18€ / Regular Early-Bird 23€ / Regular 25€ (28€ sur place) \n\n\n\n° Tarif KID : 0€ (tarif équivalent en prévente et sur place dans la limite des places disponibles)Entrée gratuite pour les moins de 13 ans obligatoirement accompagnés d’un adulte et porteurs de protections auditives adaptéesJustificatif : carte d’identité \n\n\n\n° Tarif NICE PRICE : 13€ (tarif équivalent en prévente et sur place dans la limite des places disponibles)Tarif très réduit pour les moins de 16 ans\, les étudiants\, les demandeurs d’emploi\, les bénéficiaires de minima sociaux et titulaire du PASS CULTUREJustificatifs : carte d’identité\, carte étudiante\, attestation France Travail\, attestation d’inscription aux différents organismes sociaux \n\n\n\n° Tarif LOW BUDGET : 18€ (tarif équivalent en prévente et sur place dans la limite des places disponibles)Tarif réduit pour les personnes salariées\, indépendantes ou retraitées dont les revenus mensuels sont inférieurs à 1400€ nets qui ne peuvent bénéficier du tarif NICE PRICEJustificatifs : attestation de revenus comme un bulletin de paie récent\, avis d’impôts n-1\, relevé de pension… \n\n\n\n° Tarif REGULAR : 23€ early-bird / 25€ en prévente (28€ sur place dans la limite des places disponibles)—Pour toute revente de tickets merci d’utiliser la plateforme sécurisée de notre partenaire Ticketswap :https://www.ticketswap.fr/…/1e321ecc-26b2-407d-beec… \n\n\n\n\n\n\n\n\n\n\n\n\n\n\n\n\n\n\n\n\nACHETEZ VOS BILLETS
URL:https://theblacklab.fr/agenda/blaze-bayley-3/
CATEGORIES:ÉVÉNEMENT,SLIDER
ATTACH;FMTTYPE=image/png:https://theblacklab.fr/BL/wp-content/uploads/2026/01/Blaze-Bayley-slider.png
END:VEVENT
BEGIN:VEVENT
DTSTART;TZID=Europe/Paris:20260428T200000
DTEND;TZID=Europe/Paris:20260428T223000
DTSTAMP:20260420T120919
CREATED:20260313T130529Z
LAST-MODIFIED:20260416T090421Z
UID:7398-1777406400-1777415400@theblacklab.fr
SUMMARY:THE GOOD\, THE BAD AND LOCAL : EKO + BLACK OLD SOUND
DESCRIPTION:THE GOOD\, THE BAD AND LOCAL  \n\n\n\nEKO  : \n\n\n\nLillois et ludique\, EKO est une bande de copains passionnés de musique qui célèbre le rock au fil du temps à travers des reprises. Inspirés par les grandes icônes du rock et les groupes emblématiques qui ont marqué les époques\, EKO offre des performances énergiques et authentiques qui savent embarquer le public et la garantie d’un pur moment de musique !Insta: https://www.instagram.com/eko_rockband/ \n\n\n\nFb: https://www.facebook.com/share/ \n\n\n\nBLACK OLD SOUND : \n\n\n\nBlack Old Sound est un groupe de rock originaire des Hauts de France formé en 2021. Quintet\, composé deKévin (chant)\, Benjamin (guitare)\, Dimitri (guitare)\, Mathieu (basse) et Mathias (batterie)\, le groupe proposeun rock énergique\, mélodique\, efficace et punchy\, prêt à faire rugir les salles.Le son est rugueux\, chaud\, vrai. Des racines rock/blues indéniables\, un groove bien senti\, du gras dans lesguitares et dans les voix\, des basses/batteries claquantes\, des structures riches mais pas ennuyeuses etjuste ce qu’il faut de gimmicks pour garder les chansons vissées dans les oreilles. \n\n\n\n\n\n\n\n\n\n\n\n\n\n\n\n\n\n\n\n\n\n\n\n\n\n\nEntrée gratuite toute la soirée !
URL:https://theblacklab.fr/agenda/the-good-the-bad-and-local-eko-black-old-sound/
CATEGORIES:ÉVÉNEMENT
ATTACH;FMTTYPE=image/png:https://theblacklab.fr/BL/wp-content/uploads/2024/02/GOODBADLOCAL-slider.png
END:VEVENT
END:VCALENDAR